{"text_format":"1","workbook":"xlsx","n_sheets":4,"sheets":["Ark2","Ark1","Ark4","Ark5"],"not_rendered":{"charts":0,"images":0,"macros":1,"external_links":1,"defined_names":1,"comments":0,"pivot_tables":0},"unopened":[],"bounds":{"document_bytes":16777216,"sheet_cells":100000,"rows_first":2000,"rows_last":500,"rows_between":2000,"halvings":0,"cell_chars":16384,"cell_head_chars":4096},"cells_cut":0,"cells_raw":0,"read":"whole","date_system":"1900"}

{"sheet":"Ark2","index":0,"n_rows":25,"n_cols":10,"rows_kept":25,"cut":false,"hidden":false,"merged":[]}
[null,"2024-06-04"]
["Placering","Navn","Kampe","Kegler","Indgange","Kamppoint","Snitindex","Snit",null,"Point"]
[1,"Arvid Nielsen",{"$f":"[1]Ark1!C5+[1]Ark1!N5","v":38},{"$f":"[1]Ark1!D5+[1]Ark1!O5","v":3278},{"$f":"[1]Ark1!E5+[1]Ark1!P5","v":922},{"$f":"[1]Ark1!F5+[1]Ark1!Q5","v":{"$error":"#VALUE!"}},{"$f":"[1]Ark1!G5+[1]Ark1!R5","v":137.80000000000001},{"$f":"D3/E3","v":3.5553145336225596},{"$f":"[1]Ark1!I5+[1]Ark1!T5","v":0},{"$f":"[1]Ark1!J5+[1]Ark1!U5","v":57}]
[2,"Preben Elkjær Knudsen",{"$f":"[1]Ark1!C21+[1]Ark1!N21","v":38},{"$f":"[1]Ark1!D21+[1]Ark1!O21","v":5472},{"$f":"[1]Ark1!E21+[1]Ark1!P21","v":1102},{"$f":"[1]Ark1!F21+[1]Ark1!Q21","v":{"$error":"#VALUE!"}},{"$f":"[1]Ark1!G21+[1]Ark1!R21","v":100.52},4.9655172413793105,{"$f":"[1]Ark1!I21+[1]Ark1!T21","v":0},{"$f":"[1]Ark1!J21+[1]Ark1!U21","v":57}]
[3,"Lars Henrik Carlsen",{"$f":"[1]Ark1!C16+[1]Ark1!N16","v":38},{"$f":"[1]Ark1!D16+[1]Ark1!O16","v":5178},{"$f":"[1]Ark1!E16+[1]Ark1!P16","v":1039},{"$f":"[1]Ark1!F16+[1]Ark1!Q16","v":{"$error":"#VALUE!"}},{"$f":"[1]Ark1!G16+[1]Ark1!R16","v":109.25},4.9836381135707413,{"$f":"[1]Ark1!I16+[1]Ark1!T16","v":0},{"$f":"[1]Ark1!J16+[1]Ark1!U16","v":53}]
[4,"John Jæger",{"$f":"[1]Ark1!C11+[1]Ark1!N11","v":39},{"$f":"[1]Ark1!D11+[1]Ark1!O11","v":4186},{"$f":"[1]Ark1!E11+[1]Ark1!P11","v":9.25},{"$f":"[1]Ark1!F11+[1]Ark1!Q11","v":{"$error":"#VALUE!"}},{"$f":"[1]Ark1!G11+[1]Ark1!R11","v":113.42},452.54054054054052,{"$f":"[1]Ark1!I11+[1]Ark1!T11","v":0},{"$f":"[1]Ark1!J11+[1]Ark1!U11","v":52}]
[5,"Ole Froik",{"$f":"[1]Ark1!C17+[1]Ark1!N17","v":39},{"$f":"[1]Ark1!D17+[1]Ark1!O17","v":4846},{"$f":"[1]Ark1!E17+[1]Ark1!P17","v":1005},{"$f":"[1]Ark1!F17+[1]Ark1!Q17","v":{"$error":"#VALUE!"}},{"$f":"[1]Ark1!G17+[1]Ark1!R17","v":113.72},4.8218905472636813,{"$f":"[1]Ark1!I17+[1]Ark1!T17","v":0},{"$f":"[1]Ark1!J17+[1]Ark1!U17","v":52}]
[6,"Allan K. Jensen",{"$f":"[1]Ark1!C3+[1]Ark1!N3","v":36},{"$f":"[1]Ark1!D3+[1]Ark1!O3","v":3739},{"$f":"[1]Ark1!E3+[1]Ark1!P3","v":829},{"$f":"[1]Ark1!F3+[1]Ark1!Q3","v":{"$error":"#VALUE!"}},{"$f":"[1]Ark1!G3+[1]Ark1!R3","v":150.34},4.5102533172496981,{"$f":"[1]Ark1!I3+[1]Ark1!T3","v":0},{"$f":"[1]Ark1!J3+[1]Ark1!U3","v":50}]
[7,"Orla Østergaard",{"$f":"[1]Ark1!C18+[1]Ark1!N18","v":38},{"$f":"[1]Ark1!D18+[1]Ark1!O18","v":6914},{"$f":"[1]Ark1!E18+[1]Ark1!P18","v":1075},{"$f":"[1]Ark1!F18+[1]Ark1!Q18","v":{"$error":"#VALUE!"}},{"$f":"[1]Ark1!G18+[1]Ark1!R18","v":95.14},6.4316279069767441,{"$f":"[1]Ark1!I18+[1]Ark1!T18","v":0},{"$f":"[1]Ark1!J18+[1]Ark1!U18","v":47}]
[8,"Poul Leegaard",{"$f":"[1]Ark1!C19+[1]Ark1!N19","v":38},{"$f":"[1]Ark1!D19+[1]Ark1!O19","v":3308},{"$f":"[1]Ark1!E19+[1]Ark1!P19","v":1042},{"$f":"[1]Ark1!F19+[1]Ark1!Q19","v":{"$error":"#VALUE!"}},{"$f":"[1]Ark1!G19+[1]Ark1!R19","v":106.53},3.1746641074856048,{"$f":"[1]Ark1!I19+[1]Ark1!T19","v":0},{"$f":"[1]Ark1!J19+[1]Ark1!U19","v":46}]
[9,"Karl Pedersen",{"$f":"[1]Ark1!C14+[1]Ark1!N14","v":39},{"$f":"[1]Ark1!D14+[1]Ark1!O14","v":2986},{"$f":"[1]Ark1!E14+[1]Ark1!P14","v":830},{"$f":"[1]Ark1!F14+[1]Ark1!Q14","v":{"$error":"#VALUE!"}},{"$f":"[1]Ark1!G14+[1]Ark1!R14","v":119.92},3.5975903614457829,{"$f":"[1]Ark1!I14+[1]Ark1!T14","v":0},{"$f":"[1]Ark1!J14+[1]Ark1!U14","v":45}]
[10,"Jørgen Melhedegaard",{"$f":"[1]Ark1!C13+[1]Ark1!N13","v":38},{"$f":"[1]Ark1!D13+[1]Ark1!O13","v":5588},{"$f":"[1]Ark1!E13+[1]Ark1!P13","v":1070},{"$f":"[1]Ark1!F13+[1]Ark1!Q13","v":{"$error":"#VALUE!"}},{"$f":"[1]Ark1!G13+[1]Ark1!R13","v":100.62},5.2224299065420556,{"$f":"[1]Ark1!I13+[1]Ark1!T13","v":0},{"$f":"[1]Ark1!J13+[1]Ark1!U13","v":44}]
[11,"Preben Jensen",{"$f":"[1]Ark1!C22+[1]Ark1!N22","v":38},{"$f":"[1]Ark1!D22+[1]Ark1!O22","v":5216},{"$f":"[1]Ark1!E22+[1]Ark1!P22","v":1028},{"$f":"[1]Ark1!F22+[1]Ark1!Q22","v":{"$error":"#VALUE!"}},{"$f":"[1]Ark1!G22+[1]Ark1!R22","v":102.71},5.0739299610894939,{"$f":"[1]Ark1!I22+[1]Ark1!T22","v":0},{"$f":"[1]Ark1!J22+[1]Ark1!U22","v":43}]
[12,"Jørgen Hald",{"$f":"[1]Ark1!C12+[1]Ark1!N12","v":38},{"$f":"[1]Ark1!D12+[1]Ark1!O12","v":4440},{"$f":"[1]Ark1!E12+[1]Ark1!P12","v":913},{"$f":"[1]Ark1!F12+[1]Ark1!Q12","v":{"$error":"#VALUE!"}},{"$f":"[1]Ark1!G12+[1]Ark1!R12","v":106.55},4.8630887185104053,{"$f":"[1]Ark1!I12+[1]Ark1!T12","v":0},{"$f":"[1]Ark1!J12+[1]Ark1!U12","v":40}]
[13,"Bent Madsen",{"$f":"[1]Ark1!C7+[1]Ark1!N7","v":38},{"$f":"[1]Ark1!D7+[1]Ark1!O7","v":3214},{"$f":"[1]Ark1!E7+[1]Ark1!P7","v":1066},{"$f":"[1]Ark1!F7+[1]Ark1!Q7","v":{"$error":"#VALUE!"}},{"$f":"[1]Ark1!G7+[1]Ark1!R7","v":105.42},3.0150093808630394,{"$f":"[1]Ark1!I7+[1]Ark1!T7","v":0},{"$f":"[1]Ark1!J7+[1]Ark1!U7","v":38}]
[14,"Anders Holmgaard",{"$f":"[1]Ark1!C4+[1]Ark1!N4","v":38},{"$f":"[1]Ark1!D4+[1]Ark1!O4","v":3128},{"$f":"[1]Ark1!E4+[1]Ark1!P4","v":1015},{"$f":"[1]Ark1!F4+[1]Ark1!Q4","v":{"$error":"#VALUE!"}},{"$f":"[1]Ark1!G4+[1]Ark1!R4","v":100.38},3.0817733990147782,{"$f":"[1]Ark1!I4+[1]Ark1!T4","v":0},{"$f":"[1]Ark1!J4+[1]Ark1!U4","v":32}]
[15,"Poul Ernst Carlsen",{"$f":"[1]Ark1!C10+[1]Ark1!N10","v":22},{"$f":"[1]Ark1!D10+[1]Ark1!O10","v":1224},{"$f":"[1]Ark1!E10+[1]Ark1!P10","v":575},{"$f":"[1]Ark1!F10+[1]Ark1!Q10","v":{"$error":"#VALUE!"}},{"$f":"[1]Ark1!G10+[1]Ark1!R10","v":149.91},2.1286956521739131,{"$f":"[1]Ark1!I10+[1]Ark1!T10","v":0},{"$f":"[1]Ark1!J10+[1]Ark1!U10","v":26}]
[16,"Jens Mark Thomsen",{"$f":"[1]Ark1!C9+[1]Ark1!N9","v":38},{"$f":"[1]Ark1!D9+[1]Ark1!O9","v":3440},{"$f":"[1]Ark1!E9+[1]Ark1!P9","v":1055},{"$f":"[1]Ark1!F9+[1]Ark1!Q9","v":{"$error":"#VALUE!"}},{"$f":"[1]Ark1!G9+[1]Ark1!R9","v":93.7},3.2606635071090047,{"$f":"[1]Ark1!I9+[1]Ark1!T9","v":0},{"$f":"[1]Ark1!J9+[1]Ark1!U9","v":25}]
[17,"Søren Nielsen",{"$f":"[1]Ark1!C23+[1]Ark1!N23","v":38},{"$f":"[1]Ark1!D23+[1]Ark1!O23","v":1324},{"$f":"[1]Ark1!E23+[1]Ark1!P23","v":975},{"$f":"[1]Ark1!F23+[1]Ark1!Q23","v":{"$error":"#VALUE!"}},{"$f":"[1]Ark1!G23+[1]Ark1!R23","v":103.66},1.357948717948718,{"$f":"[1]Ark1!I23+[1]Ark1!T23","v":0},{"$f":"[1]Ark1!J23+[1]Ark1!U23","v":25}]
[18,"Per Klavsen",{"$f":"[1]Ark1!C24+[1]Ark1!N24","v":17},{"$f":"[1]Ark1!D24+[1]Ark1!O24","v":1458},{"$f":"[1]Ark1!E24+[1]Ark1!P24","v":341},{"$f":"[1]Ark1!F24+[1]Ark1!Q24","v":0},{"$f":"[1]Ark1!G24+[1]Ark1!R24","v":0},4.2756598240469206,{"$f":"[1]Ark1!I24+[1]Ark1!T24","v":0},{"$f":"[1]Ark1!J24+[1]Ark1!U24","v":24}]
[19,"Poul Vinkler",{"$f":"[1]Ark1!C20+[1]Ark1!N20","v":37},{"$f":"[1]Ark1!D20+[1]Ark1!O20","v":1668},{"$f":"[1]Ark1!E20+[1]Ark1!P20","v":785},{"$f":"[1]Ark1!F20+[1]Ark1!Q20","v":{"$error":"#VALUE!"}},{"$f":"[1]Ark1!G20+[1]Ark1!R20","v":106.24},2.1248407643312102,{"$f":"[1]Ark1!I20+[1]Ark1!T20","v":0},{"$f":"[1]Ark1!J20+[1]Ark1!U20","v":22}]
[null,"Michael S Nielsen",{"$f":"[1]Ark1!C15+[1]Ark1!N15","v":22},{"$f":"[1]Ark1!D15+[1]Ark1!O15","v":1608},{"$f":"[1]Ark1!E15+[1]Ark1!P15","v":667},{"$f":"[1]Ark1!F15+[1]Ark1!Q15","v":{"$error":"#VALUE!"}},{"$f":"[1]Ark1!G15+[1]Ark1!R15","v":105.74},2.4107946026986506,{"$f":"[1]Ark1!I15+[1]Ark1!T15","v":0},{"$f":"[1]Ark1!J15+[1]Ark1!U15","v":20}]
[null,"Lars Meldgaard",{"$f":"[1]Ark1!C6+[1]Ark1!N6","v":22},{"$f":"[1]Ark1!D6+[1]Ark1!O6","v":1824},{"$f":"[1]Ark1!E6+[1]Ark1!P6","v":721},{"$f":"[1]Ark1!F6+[1]Ark1!Q6","v":{"$error":"#VALUE!"}},{"$f":"[1]Ark1!G6+[1]Ark1!R6","v":85.18},2.5298196948682388,{"$f":"[1]Ark1!I6+[1]Ark1!T6","v":0},{"$f":"[1]Ark1!J6+[1]Ark1!U6","v":18}]
[null,"Steen H Kristensen",{"$f":"[1]Ark1!C8+[1]Ark1!N8","v":39},{"$f":"[1]Ark1!D8+[1]Ark1!O8","v":1062},{"$f":"[1]Ark1!E8+[1]Ark1!P8","v":416},{"$f":"[1]Ark1!F8+[1]Ark1!Q8","v":{"$error":"#VALUE!"}},{"$f":"[1]Ark1!G8+[1]Ark1!R8","v":93.86},2.5528846153846154,{"$f":"[1]Ark1!I8+[1]Ark1!T8","v":0},{"$f":"[1]Ark1!J8+[1]Ark1!U8","v":14}]
[null,null,{"$f":"[1]Ark1!C25+[1]Ark1!N25","v":0},{"$f":"[1]Ark1!D25+[1]Ark1!O25","v":0},{"$f":"[1]Ark1!E25+[1]Ark1!P25","v":0},{"$f":"[1]Ark1!F25+[1]Ark1!Q25","v":0},{"$f":"[1]Ark1!G25+[1]Ark1!R25","v":0},{"$error":"#DIV/0!"},{"$f":"[1]Ark1!I25+[1]Ark1!T25","v":0},{"$f":"[1]Ark1!J25+[1]Ark1!U25","v":0}]

{"sheet":"Ark1","index":1,"n_rows":25,"n_cols":21,"rows_kept":25,"cut":false,"hidden":true,"merged":[]}
[null,"1. Halvår",null,null,null,null,null,null,null,null,null,null,"Tirsdags-resultater"]
["Placering","Navn","Kampe","Kegler","Indgange","Kamppoint","Snitindex","Snit",null,"Point",null,"Placering","Navn","Kampe","Kegler","Indgange","Kamppoint","Snitindex","Snit",null,"Point"]
[15,"Allan K. Jensen",5,720,146,null,164.38,4.93,null,6,null,4,"Allan K. Jensen",0,0,0,"3044 - 2262",0,0,null,0]
[12,"Anders Holmgaard",5,404,139,null,94.67,2.91,null,4,null,16,"Anders Holmgaard",0,0,0,"1824 - 2450",0,0,null,0]
[5,"Arvid Nielsen",4,420,121,null,134.54,3.47,null,6,null,11,"Arvid Nielsen",0,0,0,"1432 - 2372",0,0,null,0]
[9,"Bent Andersen",5,0,0,null,0,0,null,0,null,19,"Bent Andersen",0,0,0,"1398 - 1812",0,0,null,0]
[14,"Bent Madsen",5,474,201,null,92.45,2.36,null,2,null,7,"Bent Madsen",0,0,0,"1592 - 1906",0,0,null,0]
[6,"Erik Dühring",5,334,168,null,104.09,1.99,null,2,null,21,"Erik Dühring",0,0,0,"1242 - 2590",0,0,null,0]
[7,"Jens Mark Thomsen",5,442,133,null,95.5,3.32,null,2,null,15,"Jens Mark Thomsen",0,0,0,"2162 - 2300",0,0,null,0]
[20,"John Emil Persson",4,478,117,null,12.7,4.09,null,6,null,18,"John Emil Persson",0,0,0,"2042 - 2068",0,0,null,0]
[11,"John Jæger",4,460,129,null,89.37,3.57,null,4,null,3,"John Jæger",0,0,0,"2694 - 2280",0,0,null,0]
[13,"Jørgen Hald",4,430,81,null,118.5,5.31,null,2,null,8,"Jørgen Hald",0,0,0,"2814 - 2384",0,0,null,0]
[4,"Jørgen Melhedegaard",4,718,138,null,100.25,5.2,null,4,null,2,"Jørgen Melhedegaard",0,0,0,"3232 - 2122",0,0,null,0]
[21,"Karl Pedersen",5,590,154,null,127.71,3.83,null,7,null,5,"Karl Pedersen",0,0,0,"1776 - 2172",0,0,null,0]
[16,"Knud Erik Sørensen",4,384,109,null,130.96,3.52,null,6,null,9,"Knud Erik Sørensen",0,0,0,"1752 - 2248",0,0,null,0]
[2,"Lars Henrik Carlsen",4,656,124,null,116.02,5.29,null,6,null,null,"Lars Henrik Carlsen",0,0,0,"3042 - 2218",0,0,null,0]
[1,"Ole Froik",5,592,132,null,105.77,4.4800000000000004,null,8,null,12,"Ole Froik",0,0,0,"2204 - 1944",0,0,null,0]
[3,"Orla Østergaard",4,906,149,null,89.95,6.08,null,6,null,10,"Orla Østergaard",0,0,0,"4184 - 2116",0,0,null,0]
[8,"Poul Leegaard",5,464,132,null,117.96,3.52,null,6,null,17,"Poul Leegaard",0,0,0,"1758 - 2260",0,0,null,0]
[17,"Poul Vinkler",5,296,117,null,126.5,2.5299999999999998,null,6,null,13,"Poul Vinkler",0,0,0,"1570 - 2500",0,0,null,0]
[22,"Preben Elkjær Knudsen",4,544,118,null,93.32,4.6100000000000003,null,2,null,6,"Preben Elkjær Knudsen",0,0,0,"2852 - 2172",0,0,null,0]
[10,"Preben Jensen",5,856,170,null,101.93,5.04,null,8,null,14,"Preben Jensen",0,0,0,"3000 - 2262",0,0,null,0]
[18,"Søren Nielsen",5,222,168,null,100.87,1.32,null,3,null,20,"Søren Nielsen",0,0,0,"876 - 1998",0,0,null,0]
[]
[null,null,null,null,null,null,null,null,null,null,null,"Stævneansvarlig: Orla Østergaard Tlf.: 40 29 53 88"]

{"sheet":"Ark4","index":2,"n_rows":0,"n_cols":0,"rows_kept":0,"cut":false,"hidden":false,"merged":[]}

{"sheet":"Ark5","index":3,"n_rows":0,"n_cols":0,"rows_kept":0,"cut":false,"hidden":false,"merged":[]}